BEGIN:VCALENDAR
VERSION:2.0
PRODID:-//Sägemühle Meier Osthoff - ECPv6.3.5//NONSGML v1.0//EN
CALSCALE:GREGORIAN
METHOD:PUBLISH
X-WR-CALNAME:Sägemühle Meier Osthoff
X-ORIGINAL-URL:https://www.saegemuehle-harsewinkel.de
X-WR-CALDESC:Veranstaltungen für Sägemühle Meier Osthoff
REFRESH-INTERVAL;VALUE=DURATION:PT1H
X-Robots-Tag:noindex
X-PUBLISHED-TTL:PT1H
BEGIN:VTIMEZONE
TZID:Europe/Berlin
BEGIN:DAYLIGHT
TZOFFSETFROM:+0100
TZOFFSETTO:+0200
TZNAME:CEST
DTSTART:20260329T010000
END:DAYLIGHT
BEGIN:STANDARD
TZOFFSETFROM:+0200
TZOFFSETTO:+0100
TZNAME:CET
DTSTART:20261025T010000
END:STANDARD
END:VTIMEZONE
BEGIN:VEVENT
DTSTART;TZID=Europe/Berlin:20260426T110000
DTEND;TZID=Europe/Berlin:20260426T170000
DTSTAMP:20260421T142904
CREATED:20260405T134149Z
LAST-MODIFIED:20260410T134713Z
UID:3383-1777201200-1777222800@www.saegemuehle-harsewinkel.de
SUMMARY:Öffnung der historischen Sägemühle am Sonntag\, den 26.04.2026
DESCRIPTION:Am Sonntag\, den 26.04.2026 öffnet der FV die Sägemühle mit ihren anderen Aktivitäten in der Zeit von 11 bis 17 Uhr. Der FV lädt ein zum gemütlichen Aufenthalt auf dem Gelände der Sägemühle. Für Verzehr von Kuchen und Getränke ist gesorgt.
URL:https://www.saegemuehle-harsewinkel.de/termin/harter-kern-des-fv-einladung-zum-05-12-2025/
LOCATION:Sägemühle Meier Osthoff\, Steinhäger Straße 22 a\, Harsewinkel
CATEGORIES:Museum,Papiermanufaktur,Sägemühle,Stromerzeugung
ATTACH;FMTTYPE=image/jpeg:https://www.saegemuehle-harsewinkel.de/wp-content/uploads/IMG_20250928_134830.jpg
END:VEVENT
BEGIN:VEVENT
DTSTART;TZID=Europe/Berlin:20260501T110000
DTEND;TZID=Europe/Berlin:20260501T180000
DTSTAMP:20260421T142904
CREATED:20250413T081332Z
LAST-MODIFIED:20260322T101233Z
UID:3346-1777633200-1777658400@www.saegemuehle-harsewinkel.de
SUMMARY:Sägemühlentag an der historischen Sägemühle Meier Osthoff am Mittwoch\, den 01.05.2026
DESCRIPTION:Sägemühlentag am Mittwoch\, den 01.05.2026\nWie in den vielen Jahren vorher findet auch in diesem Jahr wieder der Sägemühlentag des Fördervereins am 01.05.2026 statt.\nNeben der Sägevorführung in der historischen Sägemühle\, der Stromerzeugung mit einem neuen Generator und die Herstellung von handgeschöpften Büttenpapier in der Papiermanufaktur sind einige andere Aktivitäten geplant. Für das leibliche Wohl\, Essen und Getränke\, ist gesorgt.\nDer Förderverein lädt zum Besuch und zum Verweilen an der Sägemühle und im Außenbereich ein.
URL:https://www.saegemuehle-harsewinkel.de/termin/saegemuehlentag-am-donnerstag-den-01-05-2025/
LOCATION:Sägemühle Meier Osthoff\, Steinhäger Straße 22 a\, Harsewinkel
CATEGORIES:Museum,Papiermanufaktur,Sägemühle,Stromerzeugung
ATTACH;FMTTYPE=image/jpeg:https://www.saegemuehle-harsewinkel.de/wp-content/uploads/1-IMG_20230814_140604.jpg
END:VEVENT
BEGIN:VEVENT
DTSTART;TZID=Europe/Berlin:20260525T110000
DTEND;TZID=Europe/Berlin:20260525T180000
DTSTAMP:20260421T142904
CREATED:20250518T091013Z
LAST-MODIFIED:20260328T100238Z
UID:3309-1779706800-1779732000@www.saegemuehle-harsewinkel.de
SUMMARY:Deutscher Mühlentag an der historischen Sägemühle Meier Osthoff am Pfingstmontag den 25. Mai 2026
DESCRIPTION:Wie in den vergangenen Jahren beteiligt sich der Förderverein auch in diesem Jahr mit der Öffnung der historischen Sägemühle am Deutschen Mühlentag. \nAm 33. Deutschen Mühlentag öffnen deutschlandweit ca. 650 historische Mühlen ihre Türen für interessierte Besucher. Diese Veranstaltung wird von der Deutschen Gesellschaft für Mühlenkunde und Mühlenerhaltung  (DGM) und ihren Landes- und Regionalverbänden organisiert. \nDer Mühlentag dient dazu\, die Mühlen als technisches Kulturgut zu präsentieren und einen Blick in die Mühlenwelt zu ermöglichen. \nWeiteres über die Eröffnung und den Mühlentag unter der Webseite:\nhttps://www.deutsche-muehlen.de/muehlen-erleben/deutscher-muehlentag \nDer Förderverein lädt ein\, die historische Sägemühle mit Ihren sonstigen Aktivitäten zu besuchen. \n  \n  \n  \n 
URL:https://www.saegemuehle-harsewinkel.de/termin/deutsche-muehlentag-findet-am-pfingstmontag-09-juni-2025-statt/
LOCATION:Sägemühle Meier Osthoff\, Steinhäger Straße 22 a\, Harsewinkel
CATEGORIES:Bewirtung,Museum,Papiermanufaktur,Sägemühle,Stromerzeugung
ATTACH;FMTTYPE=image/jpeg:https://www.saegemuehle-harsewinkel.de/wp-content/uploads/1-IMG_20220220_094143.jpg
END:VEVENT
BEGIN:VEVENT
DTSTART;TZID=Europe/Berlin:20260913T110000
DTEND;TZID=Europe/Berlin:20260913T180000
DTSTAMP:20260421T142904
CREATED:20240311T105126Z
LAST-MODIFIED:20260323T103632Z
UID:3294-1789297200-1789322400@www.saegemuehle-harsewinkel.de
SUMMARY:Tag des offenen Denkmals an der historischen Sägemühle am Sonntag\, den 13.09.2026
DESCRIPTION:Der Tag des offenen Denkmals findet jährlich im September statt. Der Tag des offenen Denkmals wird von der Stiftung „Deutsche Stiftung Denkmalschutz“ bundesweit organisiert. Seit vielen Jahren öffnet der Förderverein an diesem Tag die historische Sägemühle für Besucherinnen und Besucher und beteiligt sich damit an dieser großen Veranstaltung. Der Tag des offenen Denkmals ist Deutschlands größtes Kulturevents. bundesweit. \nMotto zum Tag des offenen Denkmals 2026 \n„NETZwerke: Denkmale & Infrastruktur“\nDer FV lädt zum Besuch der Sägemühle ein. Für Veranstaltungen und Essen und Getränke ist gesorgt. \nIn diesem Zusammenhang kann eine Pressemitteilung der Tageszeit NW aus dem Jahr 1997 über den damals schon von Ortheimatpfleger Konrad Volmer organisierte Öffnung der Sägemühle Meier Osthoff: \nPresse \nInformationen zum Denkmaltag unter: \nhttp://www.tag-des-offenen-denkmals.de
URL:https://www.saegemuehle-harsewinkel.de/termin/oeffnung-des-museums-am-sonntag-den-25-januar-2025/
LOCATION:Sägemühle Meier Osthoff\, Steinhäger Straße 22 a\, Harsewinkel
CATEGORIES:Museum,Papiermanufaktur,Sägemühle,Stromerzeugung
ATTACH;FMTTYPE=image/jpeg:https://www.saegemuehle-harsewinkel.de/wp-content/uploads/1-2024-01-00-Saegemuehle-.jpg
END:VEVENT
END:VCALENDAR